Package: gcapc Version: 1.32.0 Command: /Library/Frameworks/R.framework/Resources/bin/R CMD INSTALL gcapc StartedAt: 2025-04-21 15:27:30 -0400 (Mon, 21 Apr 2025) EndedAt: 2025-04-21 15:28:11 -0400 (Mon, 21 Apr 2025) EllapsedTime: 40.9 seconds RetCode: 0 Status: OK