Package: gcapc Version: 1.32.0 Command: /Library/Frameworks/R.framework/Resources/bin/R CMD INSTALL gcapc StartedAt: 2025-10-13 16:41:39 -0400 (Mon, 13 Oct 2025) EndedAt: 2025-10-13 16:42:15 -0400 (Mon, 13 Oct 2025) EllapsedTime: 36.3 seconds RetCode: 0 Status: OK