Package: gcapc Version: 1.32.0 Maintainer: Mingxiang Teng MaintainerEmail: tengmx at gmail.com git_url: https://git.bioconductor.org/packages/gcapc git_branch: RELEASE_3_21 git_last_commit: bd66b5c git_last_commit_date: 2025-04-15 11:07:27 -0400 (Tue, 15 Apr 2025)