Package: garfield Version: 1.36.0 Command: /home/biocbuild/bbs-3.21-bioc/R/bin/R CMD build --keep-empty-dirs --no-resave-data garfield StartedAt: 2025-10-15 17:35:21 -0400 (Wed, 15 Oct 2025) EndedAt: 2025-10-15 17:35:33 -0400 (Wed, 15 Oct 2025) EllapsedTime: 12.0 seconds RetCode: 0 Status: OK PackageFile: garfield_1.36.0.tar.gz PackageFileSize: 304.8 KiB