Package: garfield Version: 1.36.0 Command: /Library/Frameworks/R.framework/Resources/bin/R CMD INSTALL garfield StartedAt: 2025-10-13 15:05:37 -0400 (Mon, 13 Oct 2025) EndedAt: 2025-10-13 15:06:04 -0400 (Mon, 13 Oct 2025) EllapsedTime: 27.1 seconds RetCode: 0 Status: OK