Package: garfield Version: 1.36.0 Command: /Library/Frameworks/R.framework/Resources/bin/R CMD check --install=check:garfield.install-out.txt --library=/Library/Frameworks/R.framework/Resources/library --no-vignettes --timings garfield_1.36.0.tar.gz StartedAt: 2025-10-14 04:01:43 -0400 (Tue, 14 Oct 2025) EndedAt: 2025-10-14 04:02:28 -0400 (Tue, 14 Oct 2025) EllapsedTime: 45.4 seconds RetCode: 0 Status: WARNINGS CheckDir: garfield.Rcheck Warnings: 1