Package: garfield Version: 1.36.0 Command: /Library/Frameworks/R.framework/Resources/bin/R CMD build --keep-empty-dirs --no-resave-data garfield StartedAt: 2025-10-13 19:11:04 -0400 (Mon, 13 Oct 2025) EndedAt: 2025-10-13 19:11:32 -0400 (Mon, 13 Oct 2025) EllapsedTime: 28.2 seconds RetCode: 0 Status: OK PackageFile: garfield_1.36.0.tar.gz PackageFileSize: 305 KiB