Package: garfield Version: 1.36.0 Command: rm -rf garfield.buildbin-libdir && mkdir garfield.buildbin-libdir && /Users/biocbuild/BBS/utils/build-universal.sh garfield_1.36.0.tar.gz /Library/Frameworks/R.framework/Resources/bin/R garfield.buildbin-libdir StartedAt: 2025-10-14 13:29:42 -0400 (Tue, 14 Oct 2025) EndedAt: 2025-10-14 13:30:14 -0400 (Tue, 14 Oct 2025) EllapsedTime: 31.7 seconds RetCode: 0 Status: OK PackageFile: garfield_1.36.0.tgz PackageFileSize: 392.1 KiB