Package: gage Version: 2.58.0 Command: chmod a+r gage -R && E:\biocbuild\bbs-3.21-bioc\R\bin\R.exe CMD build --keep-empty-dirs --no-resave-data gage StartedAt: 2025-08-14 19:14:04 -0400 (Thu, 14 Aug 2025) EndedAt: 2025-08-14 19:17:50 -0400 (Thu, 14 Aug 2025) EllapsedTime: 226.0 seconds RetCode: 0 Status: OK PackageFile: gage_2.58.0.tar.gz PackageFileSize: 4.296 MiB