Package: gage Version: 2.58.0 Command: /Library/Frameworks/R.framework/Resources/bin/R CMD INSTALL gage StartedAt: 2025-10-13 16:26:21 -0400 (Mon, 13 Oct 2025) EndedAt: 2025-10-13 16:26:52 -0400 (Mon, 13 Oct 2025) EllapsedTime: 31.9 seconds RetCode: 0 Status: OK