Package: gage Version: 2.58.0 Command: rm -rf gage.buildbin-libdir && mkdir gage.buildbin-libdir && /Users/biocbuild/BBS/utils/build-universal.sh gage_2.58.0.tar.gz /Library/Frameworks/R.framework/Resources/bin/R gage.buildbin-libdir StartedAt: 2025-10-14 13:29:36 -0400 (Tue, 14 Oct 2025) EndedAt: 2025-10-14 13:30:29 -0400 (Tue, 14 Oct 2025) EllapsedTime: 53.0 seconds RetCode: 0 Status: OK PackageFile: gage_2.58.0.tgz PackageFileSize: 4.413 MiB