Package: gaga Version: 2.54.0 Command: /Library/Frameworks/R.framework/Resources/bin/R CMD build --keep-empty-dirs --no-resave-data gaga StartedAt: 2025-04-21 16:51:04 -0400 (Mon, 21 Apr 2025) EndedAt: 2025-04-21 16:51:32 -0400 (Mon, 21 Apr 2025) EllapsedTime: 27.3 seconds RetCode: 0 Status: OK PackageFile: gaga_2.54.0.tar.gz PackageFileSize: 569.9 KiB