Package: gaga Version: 2.54.0 Command: rm -rf gaga.buildbin-libdir && mkdir gaga.buildbin-libdir && /Users/biocbuild/BBS/utils/build-universal.sh gaga_2.54.0.tar.gz /Library/Frameworks/R.framework/Resources/bin/R gaga.buildbin-libdir StartedAt: 2025-10-15 18:34:12 -0400 (Wed, 15 Oct 2025) EndedAt: 2025-10-15 18:34:29 -0400 (Wed, 15 Oct 2025) EllapsedTime: 16.8 seconds RetCode: 0 Status: OK PackageFile: gaga_2.54.0.tgz PackageFileSize: 767.3 KiB