############################################################################## ############################################################################## ### ### Running command: ### ### /Library/Frameworks/R.framework/Resources/bin/R CMD check --install=check:gINTomics.install-out.txt --library=/Library/Frameworks/R.framework/Resources/library --no-vignettes --timings gINTomics_1.4.1.tar.gz ### ############################################################################## ############################################################################## * using log directory ‘/Users/biocbuild/bbs-3.21-bioc/meat/gINTomics.Rcheck’ * using R version 4.5.1 RC (2025-06-05 r88288) * using platform: x86_64-apple-darwin20 * R was compiled by Apple clang version 14.0.0 (clang-1400.0.29.202) GNU Fortran (GCC) 14.2.0 * running under: macOS Monterey 12.7.6 * using session charset: UTF-8 * using option ‘--no-vignettes’ * checking for file ‘gINTomics/DESCRIPTION’ ... OK * this is package ‘gINTomics’ version ‘1.4.1’ * package encoding: UTF-8 * checking package namespace information ... OK * checking package dependencies ... INFO Imports includes 42 non-default packages. Importing from so many packages makes the package vulnerable to any of them becoming unavailable. Move as many as possible to Suggests and use conditionally. * checking if this is a source package ... OK * checking if there is a namespace ... OK * checking for hidden files and directories ... OK * checking for portable file names ... OK * checking for sufficient/correct file permissions ... OK * checking whether package ‘gINTomics’ can be installed ... OK * checking installed package size ... OK * checking package directory ... OK * checking ‘build’ directory ... OK * checking DESCRIPTION meta-information ... OK * checking top-level files ... OK * checking for left-over files ... OK * checking index information ... OK * checking package subdirectories ... OK * checking code files for non-ASCII characters ... OK * checking R files for syntax errors ... OK * checking whether the package can be loaded ... OK * checking whether the package can be loaded with stated dependencies ... OK * checking whether the package can be unloaded cleanly ... OK * checking whether the namespace can be loaded with stated dependencies ... OK * checking whether the namespace can be unloaded cleanly ... OK * checking dependencies in R code ... OK * checking S3 generic/method consistency ... OK * checking replacement functions ... OK * checking foreign function calls ... OK * checking R code for possible problems ... NOTE [2025-10-14 04:44:11] [TRACE] [OmnipathR] Reading JSON from `/Users/biocbuild/Library/Caches/OmnipathR/cache.json` (encoding: UTF-8). [2025-10-14 04:44:11] [TRACE] [OmnipathR] JSON validation successful: TRUE [2025-10-14 04:44:11] [INFO] [OmnipathR] Initialized cache: `/Users/biocbuild/Library/Caches/OmnipathR`. [2025-10-14 04:44:11] [INFO] [OmnipathR] Package `OmnipathR` packaged: NA [2025-10-14 04:44:11] [INFO] [OmnipathR] Package `OmnipathR` date/publication: 2025-10-13 [2025-10-14 04:44:11] [INFO] [OmnipathR] Package `OmnipathR` built: R 4.5.1; ; 2025-10-13 19:16:02 UTC; unix [2025-10-14 04:44:11] [INFO] [OmnipathR] Package `OmnipathR` version: 3.16.2 [2025-10-14 04:44:11] [INFO] [OmnipathR] Package `OmnipathR` repository: Bioconductor 3.21 [2025-10-14 04:44:12] [INFO] [OmnipathR] Session info: [version=R version 4.5.1 RC (2025-06-05 r88288); os=macOS Monterey 12.7.6; system=x86_64, darwin20; ui=X11; language=(EN); collate=C; ctype=en_US.UTF-8; tz=America/New_York; date=2025-10-14; pandoc=2.7.3 @ /usr/local/bin/ (via rmarkdown); quarto=1.4.553 @ /usr/local/bin/quarto] [2025-10-14 04:44:12] [INFO] [OmnipathR] External libraries: [cairo=1.17.6; cairoFT=; pango=1.50.14; png=1.6.44; jpeg=9.5; tiff=LIBTIFF, Version 4.5.0; tcl=8.6.13; curl=8.7.1; zlib=1.2.11; bzlib=1.0.8, 13-Jul-2019; xz=5.6.3; deflate=1.23; PCRE=10.44 2024-06-07; ICU=70.1; TRE=TRE 0.8.0 R_fixes (BSD); iconv=Apple or GNU libiconv 1.11 /Library/Frameworks/R.framework/Versions/4.5-x86_64/Resources/lib/libR.dylib; readline=5.2; BLAS=/Library/Frameworks/R.framework/Versions/4.5-x86_64/Resources/lib/libRblas.0.dylib; lapack=/Library/Frameworks/R.framework/Versions/4.5-x86_64/Resources/lib/libRlapack.dylib; lapack_version=3.12.1] [2025-10-14 04:44:13] [INFO] [OmnipathR] Loaded packages: abind 1.4-8(2024-09-12); AnnotationDbi 1.70.0(2025-10-13); backports 1.5.0(2024-05-23); Biobase 2.68.0(2025-10-13); BiocBaseUtils 1.10.0(2025-10-13); BiocGenerics 0.54.1(2025-10-13); BiocIO 1.18.0(2025-10-13); BiocParallel 1.42.2(2025-10-13); Biostrings 2.76.0(2025-10-13); bit 4.6.0(2025-03-06); bit64 4.6.0-1(2025-01-16); bitops 1.0-9(2024-10-03); blob 1.2.4(2023-03-17); cachem 1.1.0(2024-05-16); cellranger 1.1.0(2016-07-27); checkmate 2.3.3(2025-08-18); chromote 0.5.1(2025-04-24); circlize 0.4.16(2024-02-20); cli 3.6.5(2025-04-23); clisymbols 1.2.0(2017-05-21); clue 0.3-66(2024-11-13); cluster 2.1.8.1(2025-03-12); codetools 0.2-20(2024-03-31); colorspace 2.1-2(2025-09-22); ComplexHeatmap 2.24.1(2025-10-13); crayon 1.5.3(2024-06-20); curl 7.0.0(2025-08-19); DBI 1.2.3(2024-06-02); DelayedArray 0.34.1(2025-10-13); dichromat 2.0-0.1(2022-05-02); digest 0.6.37(2024-08-19); doParallel 1.0.17(2022-02-07); dplyr 1.1.4(2023-11-17); DT 0.34.0(2025-09-02); evaluate 1.0.5(2025-08-27); farver 2.1.2(2024-05-13); fastmap 1.2.0(2024-05-15); fontawesome 0.5.3(2024-11-16); foreach 1.5.2(2022-02-02); fs 1.6.6(2025-04-12); generics 0.1.4(2025-05-09); GenomeInfoDb 1.44.3(2025-10-13); GenomeInfoDbData 1.2.14(2025-06-19); GenomicAlignments 1.44.0(2025-10-13); GenomicFeatures 1.60.0(2025-10-13); GenomicRanges 1.60.0(2025-10-13); GetoptLong 1.0.5(2020-12-15); ggplot2 4.0.0(2025-09-11); gINTomics 1.4.1(2025-10-13); GlobalOptions 0.1.2(2020-06-10); glue 1.8.0(2024-09-30); gtable 0.3.6(2024-10-25); hms 1.1.3(2023-03-21); htmltools 0.5.8.1(2024-04-04); htmlwidgets 1.6.4(2023-12-06); httpuv 1.6.16(2025-04-16); httr 1.4.7(2023-08-15); httr2 1.2.1(2025-07-22); igraph 2.2.0(2025-10-13); InteractiveComplexHeatmap 1.16.0(2025-10-13); IRanges 2.42.0(2025-10-13); iterators 1.0.14(2022-02-05); jsonlite 2.0.0(2025-03-27); kableExtra 1.4.0(2024-01-24); KEGGREST 1.48.1(2025-10-13); knitr 1.50(2025-03-16); later 1.4.4(2025-08-27); lattice 0.22-7(2025-04-02); lifecycle 1.0.4(2023-11-07); logger 0.4.1(2025-09-11); lubridate 1.9.4(2024-12-08); magrittr 2.0.4(2025-09-12); MASS 7.3-65(2025-02-28); Matrix 1.7-4(2025-08-28); MatrixGenerics 1.20.0(2025-10-13); matrixStats 1.5.0(2025-01-07); memoise 2.0.1(2021-11-26); MethylMix 2.38.0(2025-10-13); mime 0.13(2025-03-17); MultiAssayExperiment 1.34.0(2025-10-13); OmnipathR 3.16.2(2025-10-13); pillar 1.11.1(2025-09-17); pkgconfig 2.0.3(2019-09-22); png 0.1-8(2022-11-29); prettyunits 1.2.0(2023-09-24); processx 3.8.6(2025-02-21); progress 1.2.3(2023-12-06); promises 1.3.3(2025-05-29); ps 1.9.1(2025-04-12); purrr 1.1.0(2025-07-10); R.methodsS3 1.8.2(2022-06-13); R.oo 1.27.1(2025-05-02); R.utils 2.13.0(2025-02-24); R6 2.6.1(2025-02-15); rappdirs 0.3.3(2021-01-31); RColorBrewer 1.1-3(2022-04-03); Rcpp 1.1.0(2025-07-02); RCurl 1.98-1.17(2025-03-22); readr 2.1.5(2024-01-10); readxl 1.4.5(2025-03-07); restfulr 0.0.16(2025-06-27); rjson 0.2.23(2024-09-16); rlang 1.1.6(2025-04-11); rmarkdown 2.30(2025-09-28); Rsamtools 2.24.1(2025-10-13); RSQLite 2.4.3(2025-08-20); rstudioapi 0.17.1(2024-10-22); rtracklayer 1.68.0(2025-10-13); rvest 1.0.5(2025-08-29); S4Arrays 1.8.1(2025-10-13); S4Vectors 0.46.0(2025-10-13); S7 0.2.0(2024-11-07); scales 1.4.0(2025-04-24); sessioninfo 1.2.3(2025-02-05); shape 1.4.6.1(2024-02-23); shiny 1.11.1(2025-07-03); SparseArray 1.8.1(2025-10-13); stringi 1.8.7(2025-03-27); stringr 1.5.2(2025-09-08); SummarizedExperiment 1.38.1(2025-10-13); svglite 2.2.1(2025-05-12); systemfonts 1.3.1(2025-10-01); textshaping 1.0.4(2025-10-10); tibble 3.3.0(2025-06-08); tidyr 1.3.1(2024-01-24); tidyselect 1.2.1(2024-03-11); timechange 0.3.0(2024-01-18); tzdb 0.5.0(2025-03-15); UCSC.utils 1.4.0(2025-10-13); vctrs 0.6.5(2023-12-01); viridisLite 0.4.2(2023-05-02); websocket 1.4.4(2025-04-10); withr 3.0.2(2024-10-28); xfun 0.53(2025-08-19); XML 3.99-0.19(2025-08-22); xml2 1.4.0(2025-08-20); xtable 1.8-4(2019-04-21); XVector 0.48.0(2025-10-13); yaml 2.3.10(2024-07-26); zip 2.3.3(2025-05-13) [2025-10-14 04:44:13] [INFO] [OmnipathR] CURL: version: 8.14.1; headers: 8.14.1; ssl_version: LibreSSL/3.3.6 (SecureTransport); libz_version: 1.2.11; libssh_version: NA; libidn_version: NA; host: x86_64-apple-darwin22.6.0; protocols: dict, file, ftp, ftps, gopher, gophers, http, https, imap, imaps, ldap, ldaps, mqtt, pop3, pop3s, rtsp, smb, smbs, smtp, smtps, telnet, tftp, ws, wss; ipv6: TRUE; http2: TRUE; idn: FALSE; url_parser: TRUE [2025-10-14 04:44:13] [TRACE] [OmnipathR] Running on a build server, wiping cache. [2025-10-14 04:44:13] [TRACE] [OmnipathR] Cache is at `/Users/biocbuild/Library/Caches/OmnipathR`. [2025-10-14 04:44:13] [TRACE] [OmnipathR] Contains 1 files. [2025-10-14 04:44:13] [TRACE] [OmnipathR] Cache is locked: FALSE. [2025-10-14 04:44:13] [TRACE] [OmnipathR] Reading JSON from `/Users/biocbuild/Library/Caches/OmnipathR/cache.json` (encoding: UTF-8). [2025-10-14 04:44:13] [TRACE] [OmnipathR] JSON validation successful: TRUE [2025-10-14 04:44:13] [SUCCESS] [OmnipathR] Removing all cache contents from `/Users/biocbuild/Library/Caches/OmnipathR`. [2025-10-14 04:44:13] [TRACE] [OmnipathR] Pandoc version: `2.7.3`. [2025-10-14 04:44:13] [TRACE] [OmnipathR] Reading JSON from `/Library/Frameworks/R.framework/Versions/4.5-x86_64/Resources/library/OmnipathR/db/db_def.json` (encoding: UTF-8). [2025-10-14 04:44:13] [TRACE] [OmnipathR] JSON validation successful: TRUE [2025-10-14 04:44:13] [TRACE] [OmnipathR] Reading JSON from `/Library/Frameworks/R.framework/Versions/4.5-x86_64/Resources/library/OmnipathR/internal/magic_bytes.json` (encoding: UTF-8). [2025-10-14 04:44:13] [TRACE] [OmnipathR] JSON validation successful: TRUE [2025-10-14 04:44:14] [TRACE] [OmnipathR] Reading JSON from `/Library/Frameworks/R.framework/Versions/4.5-x86_64/Resources/library/OmnipathR/internal/urls.json` (encoding: UTF-8). [2025-10-14 04:44:14] [TRACE] [OmnipathR] JSON validation successful: TRUE [2025-10-14 04:44:14] [TRACE] [OmnipathR] Reading JSON from `/Library/Frameworks/R.framework/Versions/4.5-x86_64/Resources/library/OmnipathR/internal/id_types.json` (encoding: UTF-8). [2025-10-14 04:44:14] [TRACE] [OmnipathR] JSON validation successful: TRUE [2025-10-14 04:44:14] [TRACE] [OmnipathR] Cache locked: FALSE .build_histo: no visible binding for global variable ‘chr_cov’ .build_histo: no visible binding for global variable ‘significance’ .build_ridge: no visible binding for global variable ‘coef’ .build_ridge: no visible binding for global variable ‘significance’ .circos_preprocess: no visible binding for global variable ‘cnv_met’ .find_deg: no visible global function definition for ‘combn’ .find_deg: no visible global function definition for ‘contrasts.fit’ .prepare_cnv_heatmap: no visible binding for global variable ‘cnv’ .prepare_gen_heatmap: no visible binding for global variable ‘met’ .prepare_gen_heatmap: no visible binding for global variable ‘cnv’ .prepare_met_heatmap: no visible binding for global variable ‘met’ .prepare_mirna_heatmap: no visible binding for global variable ‘mirna_cnv’ .prepare_network: no visible binding for global variable ‘omics’ .prepare_reactive_histo_tf: no visible binding for global variable ‘Freq’ .prepare_reactive_venn: no visible binding for global variable ‘cnv_met’ .prepare_reactive_venn: no visible binding for global variable ‘pval’ .reactive_cnv_test_plots: no visible binding for global variable ‘x’ .reactive_cnv_test_plots: no visible binding for global variable ‘y’ .reactive_transcExpr_plots: no visible binding for global variable ‘x’ .reactive_transcExpr_plots: no visible binding for global variable ‘y’ .run_reactive_tf_enrich: no visible binding for '<<-' assignment to ‘bg_process’ .server_enrich_bg : : no visible binding for global variable ‘bg_process’ .server_enrich_bgTF: no visible binding for '<<-' assignment to ‘bg_process’ .server_enrich_bgTF : : no visible binding for global variable ‘bg_process’ .shiny_preprocess: no visible binding for global variable ‘cov’ plot_tf_distribution: no visible binding for global variable ‘Freq’ Undefined global functions or variables: Freq bg_process chr_cov cnv cnv_met coef combn contrasts.fit cov met mirna_cnv omics pval significance x y Consider adding importFrom("stats", "coef", "cov") importFrom("utils", "combn") to your NAMESPACE file. * checking Rd files ... OK * checking Rd metadata ... OK * checking Rd cross-references ... NOTE Found the following Rd file(s) with Rd \link{} targets missing package anchors: mmultiassay_ov.Rd: MultiAssayExperiment-class Please provide package anchors for all Rd \link{} targets not in the package itself and the base packages. * checking for missing documentation entries ... OK * checking for code/documentation mismatches ... OK * checking Rd \usage sections ... OK * checking Rd contents ... OK * checking for unstated dependencies in examples ... OK * checking contents of ‘data’ directory ... OK * checking data for non-ASCII characters ... OK * checking data for ASCII and uncompressed saves ... OK * checking R/sysdata.rda ... OK * checking files in ‘vignettes’ ... OK * checking examples ... OK Examples with CPU (user + system) or elapsed time > 5s user system elapsed plot_volcano 36.649 3.123 49.671 extract_model_res 21.471 2.244 26.960 plot_ridge 18.550 2.033 22.506 run_multiomics 12.363 1.185 16.548 run_tf_integration 8.280 0.549 14.104 * checking for unstated dependencies in ‘tests’ ... OK * checking tests ... Running ‘testthat.R’ OK * checking for unstated dependencies in vignettes ... OK * checking package vignettes ... OK * checking running R code from vignettes ... SKIPPED * checking re-building of vignette outputs ... SKIPPED * checking PDF version of manual ... OK * DONE Status: 2 NOTEs See ‘/Users/biocbuild/bbs-3.21-bioc/meat/gINTomics.Rcheck/00check.log’ for details.