Package: gINTomics Version: 1.4.0 Command: rm -rf gINTomics.buildbin-libdir && mkdir gINTomics.buildbin-libdir && /Users/biocbuild/BBS/utils/build-universal.sh gINTomics_1.4.0.tar.gz /Library/Frameworks/R.framework/Resources/bin/R gINTomics.buildbin-libdir StartedAt: 2025-09-30 13:20:48 -0400 (Tue, 30 Sep 2025) EndedAt: 2025-09-30 13:25:00 -0400 (Tue, 30 Sep 2025) EllapsedTime: 251.8 seconds RetCode: 0 Status: OK PackageFile: gINTomics_1.4.0.tgz PackageFileSize: 3.787 MiB