Package: gDRutils Version: 1.6.0 Command: /home/biocbuild/R/R/bin/R CMD INSTALL gDRutils StartedAt: 2025-10-13 20:52:19 -0000 (Mon, 13 Oct 2025) EndedAt: 2025-10-13 20:52:51 -0000 (Mon, 13 Oct 2025) EllapsedTime: 32.1 seconds RetCode: 0 Status: OK