Package: gDRutils Version: 1.6.0 Command: /home/biocbuild/R/R/bin/R CMD build --keep-empty-dirs --no-resave-data gDRutils StartedAt: 2025-10-14 01:01:27 -0000 (Tue, 14 Oct 2025) EndedAt: 2025-10-14 01:02:14 -0000 (Tue, 14 Oct 2025) EllapsedTime: 47.0 seconds RetCode: 0 Status: OK PackageFile: gDRutils_1.6.0.tar.gz PackageFileSize: 358.5 KiB