Package: gDRutils Version: 1.6.0 Command: rm -rf gDRutils.buildbin-libdir && mkdir gDRutils.buildbin-libdir && /Users/biocbuild/BBS/utils/build-universal.sh gDRutils_1.6.0.tar.gz /Library/Frameworks/R.framework/Resources/bin/R gDRutils.buildbin-libdir StartedAt: 2025-10-15 18:35:56 -0400 (Wed, 15 Oct 2025) EndedAt: 2025-10-15 18:36:26 -0400 (Wed, 15 Oct 2025) EllapsedTime: 30.4 seconds RetCode: 0 Status: OK PackageFile: gDRutils_1.6.0.tgz PackageFileSize: 654.9 KiB