Package: gDRstyle Version: 1.6.0 Command: /Library/Frameworks/R.framework/Resources/bin/R CMD check --install=check:gDRstyle.install-out.txt --library=/Library/Frameworks/R.framework/Resources/library --no-vignettes --timings gDRstyle_1.6.0.tar.gz StartedAt: 2025-09-19 04:11:17 -0400 (Fri, 19 Sep 2025) EndedAt: 2025-09-19 04:13:37 -0400 (Fri, 19 Sep 2025) EllapsedTime: 140.0 seconds RetCode: 0 Status: OK CheckDir: gDRstyle.Rcheck Warnings: 0