Package: gDRstyle Version: 1.6.0 Command: /home/biocbuild/R/R/bin/R CMD INSTALL gDRstyle StartedAt: 2025-10-13 20:27:03 -0000 (Mon, 13 Oct 2025) EndedAt: 2025-10-13 20:27:07 -0000 (Mon, 13 Oct 2025) EllapsedTime: 4.0 seconds RetCode: 0 Status: OK