Package: gDRstyle Version: 1.6.0 Command: /home/biocbuild/R/R/bin/R CMD check --install=check:gDRstyle.install-out.txt --library=/home/biocbuild/R/R/site-library --no-vignettes --timings gDRstyle_1.6.0.tar.gz StartedAt: 2025-10-14 09:20:50 -0000 (Tue, 14 Oct 2025) EndedAt: 2025-10-14 09:21:59 -0000 (Tue, 14 Oct 2025) EllapsedTime: 69.0 seconds RetCode: 0 Status: OK CheckDir: gDRstyle.Rcheck Warnings: 0