Package: gDRstyle Version: 1.6.0 Command: /home/biocbuild/R/R/bin/R CMD build --keep-empty-dirs --no-resave-data gDRstyle StartedAt: 2025-10-14 01:01:18 -0000 (Tue, 14 Oct 2025) EndedAt: 2025-10-14 01:01:27 -0000 (Tue, 14 Oct 2025) EllapsedTime: 9.0 seconds RetCode: 0 Status: OK PackageFile: gDRstyle_1.6.0.tar.gz PackageFileSize: 729.9 KiB