Package: gDNAx Version: 1.6.1 Command: rm -rf gDNAx.buildbin-libdir && mkdir gDNAx.buildbin-libdir && E:\biocbuild\bbs-3.21-bioc\R\bin\R.exe CMD INSTALL --build --library=gDNAx.buildbin-libdir gDNAx_1.6.1.tar.gz StartedAt: 2025-08-15 09:19:55 -0400 (Fri, 15 Aug 2025) EndedAt: 2025-08-15 09:20:54 -0400 (Fri, 15 Aug 2025) EllapsedTime: 59.5 seconds RetCode: 0 Status: OK PackageFile: gDNAx_1.6.1.zip PackageFileSize: 958.6 KiB