Package: gDNAx Version: 1.6.1 Command: /Library/Frameworks/R.framework/Resources/bin/R CMD check --install=check:gDNAx.install-out.txt --library=/Library/Frameworks/R.framework/Resources/library --no-vignettes --timings gDNAx_1.6.1.tar.gz StartedAt: 2025-10-14 04:04:38 -0400 (Tue, 14 Oct 2025) EndedAt: 2025-10-14 04:32:32 -0400 (Tue, 14 Oct 2025) EllapsedTime: 1673.7 seconds RetCode: 0 Status: OK CheckDir: gDNAx.Rcheck Warnings: 0