Package: gDNAx Version: 1.6.1 Command: /Library/Frameworks/R.framework/Resources/bin/R CMD build --keep-empty-dirs --no-resave-data gDNAx StartedAt: 2025-10-13 19:11:57 -0400 (Mon, 13 Oct 2025) EndedAt: 2025-10-13 19:19:05 -0400 (Mon, 13 Oct 2025) EllapsedTime: 427.6 seconds RetCode: 0 Status: OK PackageFile: gDNAx_1.6.1.tar.gz PackageFileSize: 744.9 KiB