Package: gDNAx Version: 1.6.1 Command: rm -rf gDNAx.buildbin-libdir && mkdir gDNAx.buildbin-libdir && /Users/biocbuild/BBS/utils/build-universal.sh gDNAx_1.6.1.tar.gz /Library/Frameworks/R.framework/Resources/bin/R gDNAx.buildbin-libdir StartedAt: 2025-10-14 13:30:23 -0400 (Tue, 14 Oct 2025) EndedAt: 2025-10-14 13:32:55 -0400 (Tue, 14 Oct 2025) EllapsedTime: 152.0 seconds RetCode: 0 Status: OK PackageFile: gDNAx_1.6.1.tgz PackageFileSize: 1.111 MiB