Package: gDNAx Version: 1.6.1 Command: /home/biocbuild/R/R/bin/R CMD check --install=check:gDNAx.install-out.txt --library=/home/biocbuild/R/R/site-library --no-vignettes --timings gDNAx_1.6.1.tar.gz StartedAt: 2025-10-14 09:19:52 -0000 (Tue, 14 Oct 2025) EndedAt: 2025-10-14 09:41:39 -0000 (Tue, 14 Oct 2025) EllapsedTime: 1306.7 seconds RetCode: 0 Status: OK CheckDir: gDNAx.Rcheck Warnings: 0