Package: gDNAx Version: 1.6.1 Command: /Library/Frameworks/R.framework/Resources/bin/R CMD INSTALL gDNAx StartedAt: 2025-09-25 18:25:12 -0400 (Thu, 25 Sep 2025) EndedAt: 2025-09-25 18:26:06 -0400 (Thu, 25 Sep 2025) EllapsedTime: 54.1 seconds RetCode: 0 Status: OK