Package: gDNAx Version: 1.6.1 Command: /Library/Frameworks/R.framework/Resources/bin/R CMD check --install=check:gDNAx.install-out.txt --library=/Library/Frameworks/R.framework/Resources/library --no-vignettes --timings gDNAx_1.6.1.tar.gz StartedAt: 2025-09-26 21:43:56 -0400 (Fri, 26 Sep 2025) EndedAt: 2025-09-26 22:00:25 -0400 (Fri, 26 Sep 2025) EllapsedTime: 989.1 seconds RetCode: 0 Status: OK CheckDir: gDNAx.Rcheck Warnings: 0