Package: gCrisprTools Version: 2.14.0 Command: /home/biocbuild/bbs-3.21-bioc/R/bin/R CMD check --install=check:gCrisprTools.install-out.txt --library=/home/biocbuild/bbs-3.21-bioc/R/site-library --timings gCrisprTools_2.14.0.tar.gz StartedAt: 2025-10-15 23:24:25 -0400 (Wed, 15 Oct 2025) EndedAt: 2025-10-15 23:35:49 -0400 (Wed, 15 Oct 2025) EllapsedTime: 683.9 seconds RetCode: 0 Status: OK CheckDir: gCrisprTools.Rcheck Warnings: 0