Package: gCrisprTools Version: 2.14.0 Command: /home/biocbuild/bbs-3.21-bioc/R/bin/R CMD build --keep-empty-dirs --no-resave-data gCrisprTools StartedAt: 2025-10-15 17:35:41 -0400 (Wed, 15 Oct 2025) EndedAt: 2025-10-15 17:39:31 -0400 (Wed, 15 Oct 2025) EllapsedTime: 230.2 seconds RetCode: 0 Status: OK PackageFile: gCrisprTools_2.14.0.tar.gz PackageFileSize: 4.389 MiB