Package: funOmics Version: 1.2.0 Command: /home/biocbuild/bbs-3.21-bioc/R/bin/R CMD INSTALL funOmics StartedAt: 2025-10-15 15:25:11 -0400 (Wed, 15 Oct 2025) EndedAt: 2025-10-15 15:25:27 -0400 (Wed, 15 Oct 2025) EllapsedTime: 16.8 seconds RetCode: 0 Status: OK