Package: funOmics Version: 1.2.0 Command: /home/biocbuild/bbs-3.21-bioc/R/bin/R CMD check --install=check:funOmics.install-out.txt --library=/home/biocbuild/bbs-3.21-bioc/R/site-library --timings funOmics_1.2.0.tar.gz StartedAt: 2025-10-15 23:21:12 -0400 (Wed, 15 Oct 2025) EndedAt: 2025-10-15 23:31:10 -0400 (Wed, 15 Oct 2025) EllapsedTime: 597.8 seconds RetCode: 0 Status: OK CheckDir: funOmics.Rcheck Warnings: 0