Package: funOmics Version: 1.2.0 Command: /Library/Frameworks/R.framework/Resources/bin/R CMD INSTALL funOmics StartedAt: 2025-09-29 16:01:29 -0400 (Mon, 29 Sep 2025) EndedAt: 2025-09-29 16:01:49 -0400 (Mon, 29 Sep 2025) EllapsedTime: 19.6 seconds RetCode: 0 Status: OK