Package: funOmics Version: 1.2.0 Command: /Library/Frameworks/R.framework/Resources/bin/R CMD build --keep-empty-dirs --no-resave-data funOmics StartedAt: 2025-09-30 00:43:50 -0400 (Tue, 30 Sep 2025) EndedAt: 2025-09-30 00:51:43 -0400 (Tue, 30 Sep 2025) EllapsedTime: 472.8 seconds RetCode: 0 Status: OK PackageFile: funOmics_1.2.0.tar.gz PackageFileSize: 52.56 KiB