Package: frmaTools Version: 1.60.0 Command: rm -rf frmaTools.buildbin-libdir && mkdir frmaTools.buildbin-libdir && /Users/biocbuild/BBS/utils/build-universal.sh frmaTools_1.60.0.tar.gz /Library/Frameworks/R.framework/Resources/bin/R frmaTools.buildbin-libdir StartedAt: 2025-09-19 13:47:13 -0400 (Fri, 19 Sep 2025) EndedAt: 2025-09-19 13:47:27 -0400 (Fri, 19 Sep 2025) EllapsedTime: 14.6 seconds RetCode: 0 Status: OK PackageFile: frmaTools_1.60.0.tgz PackageFileSize: 185.1 KiB