Package: frmaTools Version: 1.60.0 Command: /home/biocbuild/R/R/bin/R CMD check --install=check:frmaTools.install-out.txt --library=/home/biocbuild/R/R/site-library --no-vignettes --timings frmaTools_1.60.0.tar.gz StartedAt: 2025-09-19 09:55:24 -0000 (Fri, 19 Sep 2025) EndedAt: 2025-09-19 09:56:04 -0000 (Fri, 19 Sep 2025) EllapsedTime: 40.0 seconds RetCode: 0 Status: OK CheckDir: frmaTools.Rcheck Warnings: 0