Package: frma Version: 1.60.0 Command: rm -rf frma.buildbin-libdir && mkdir frma.buildbin-libdir && E:\biocbuild\bbs-3.21-bioc\R\bin\R.exe CMD INSTALL --build --library=frma.buildbin-libdir frma_1.60.0.tar.gz StartedAt: 2025-08-15 09:19:07 -0400 (Fri, 15 Aug 2025) EndedAt: 2025-08-15 09:19:53 -0400 (Fri, 15 Aug 2025) EllapsedTime: 46.0 seconds RetCode: 0 Status: OK PackageFile: frma_1.60.0.zip PackageFileSize: 593.2 KiB