Package: frma Version: 1.60.0 Command: /Library/Frameworks/R.framework/Resources/bin/R CMD build --keep-empty-dirs --no-resave-data frma StartedAt: 2025-10-13 19:09:09 -0400 (Mon, 13 Oct 2025) EndedAt: 2025-10-13 19:11:16 -0400 (Mon, 13 Oct 2025) EllapsedTime: 127.2 seconds RetCode: 0 Status: OK PackageFile: frma_1.60.0.tar.gz PackageFileSize: 287.6 KiB