Package: frma Version: 1.60.0 Command: /home/biocbuild/R/R/bin/R CMD INSTALL frma StartedAt: 2025-10-13 20:46:08 -0000 (Mon, 13 Oct 2025) EndedAt: 2025-10-13 20:46:49 -0000 (Mon, 13 Oct 2025) EllapsedTime: 40.3 seconds RetCode: 0 Status: OK