Package: frma Version: 1.60.0 Command: rm -rf frma.buildbin-libdir && mkdir frma.buildbin-libdir && /Users/biocbuild/BBS/utils/build-universal.sh frma_1.60.0.tar.gz /Library/Frameworks/R.framework/Resources/bin/R frma.buildbin-libdir StartedAt: 2025-04-21 22:35:37 -0400 (Mon, 21 Apr 2025) EndedAt: 2025-04-21 22:35:51 -0400 (Mon, 21 Apr 2025) EllapsedTime: 13.3 seconds RetCode: 0 Status: OK PackageFile: frma_1.60.0.tgz PackageFileSize: 730.8 KiB