Package: frma Version: 1.60.0 Command: /Library/Frameworks/R.framework/Resources/bin/R CMD check --install=check:frma.install-out.txt --library=/Library/Frameworks/R.framework/Resources/library --no-vignettes --timings frma_1.60.0.tar.gz StartedAt: 2025-09-30 21:54:05 -0400 (Tue, 30 Sep 2025) EndedAt: 2025-09-30 21:58:18 -0400 (Tue, 30 Sep 2025) EllapsedTime: 253.1 seconds RetCode: 0 Status: OK CheckDir: frma.Rcheck Warnings: 0