Package: frenchFISH Version: 1.20.0 Command: E:\biocbuild\bbs-3.21-bioc\R\bin\R.exe CMD check --no-multiarch --install=check:frenchFISH.install-out.txt --library=E:\biocbuild\bbs-3.21-bioc\R\library --no-vignettes --timings frenchFISH_1.20.0.tar.gz StartedAt: 2025-08-15 02:19:36 -0400 (Fri, 15 Aug 2025) EndedAt: 2025-08-15 02:20:09 -0400 (Fri, 15 Aug 2025) EllapsedTime: 33.1 seconds RetCode: 0 Status: OK CheckDir: frenchFISH.Rcheck Warnings: 0