Package: fmrs Version: 1.18.0 Command: /home/biocbuild/bbs-3.21-bioc/R/bin/R CMD build --keep-empty-dirs --no-resave-data fmrs StartedAt: 2025-10-15 17:33:47 -0400 (Wed, 15 Oct 2025) EndedAt: 2025-10-15 17:34:03 -0400 (Wed, 15 Oct 2025) EllapsedTime: 16.0 seconds RetCode: 0 Status: OK PackageFile: fmrs_1.18.0.tar.gz PackageFileSize: 47.13 KiB