Package: fmrs Version: 1.18.0 Command: /home/biocbuild/R/R/bin/R CMD build --keep-empty-dirs --no-resave-data fmrs StartedAt: 2025-10-14 00:57:32 -0000 (Tue, 14 Oct 2025) EndedAt: 2025-10-14 00:57:55 -0000 (Tue, 14 Oct 2025) EllapsedTime: 22.0 seconds RetCode: 0 Status: OK PackageFile: fmrs_1.18.0.tar.gz PackageFileSize: 47.79 KiB