Package: fmrs Version: 1.18.0 Command: rm -rf fmrs.buildbin-libdir && mkdir fmrs.buildbin-libdir && /Users/biocbuild/BBS/utils/build-universal.sh fmrs_1.18.0.tar.gz /Library/Frameworks/R.framework/Resources/bin/R fmrs.buildbin-libdir StartedAt: 2025-10-15 18:32:49 -0400 (Wed, 15 Oct 2025) EndedAt: 2025-10-15 18:33:02 -0400 (Wed, 15 Oct 2025) EllapsedTime: 13.6 seconds RetCode: 0 Status: OK PackageFile: fmrs_1.18.0.tgz PackageFileSize: 201.4 KiB