Package: fmcsR Version: 1.50.0 Command: rm -rf fmcsR.buildbin-libdir && mkdir fmcsR.buildbin-libdir && /Users/biocbuild/BBS/utils/build-universal.sh fmcsR_1.50.0.tar.gz /Library/Frameworks/R.framework/Resources/bin/R fmcsR.buildbin-libdir StartedAt: 2025-10-14 13:28:59 -0400 (Tue, 14 Oct 2025) EndedAt: 2025-10-14 13:30:16 -0400 (Tue, 14 Oct 2025) EllapsedTime: 77.0 seconds RetCode: 0 Status: OK PackageFile: fmcsR_1.50.0.tgz PackageFileSize: 1019 KiB