Package: flowWorkspace Version: 4.20.0 Command: chmod a+r flowWorkspace -R && E:\biocbuild\bbs-3.21-bioc\R\bin\R.exe CMD build --keep-empty-dirs --no-resave-data flowWorkspace StartedAt: 2025-08-14 19:12:31 -0400 (Thu, 14 Aug 2025) EndedAt: 2025-08-14 19:17:49 -0400 (Thu, 14 Aug 2025) EllapsedTime: 318.5 seconds RetCode: 0 Status: OK PackageFile: flowWorkspace_4.20.0.tar.gz PackageFileSize: 3.765 MiB