Package: flowViz Version: 1.72.0 Command: /Library/Frameworks/R.framework/Resources/bin/R CMD check --install=check:flowViz.install-out.txt --library=/Library/Frameworks/R.framework/Resources/library --no-vignettes --timings flowViz_1.72.0.tar.gz StartedAt: 2025-10-14 03:57:14 -0400 (Tue, 14 Oct 2025) EndedAt: 2025-10-14 04:01:26 -0400 (Tue, 14 Oct 2025) EllapsedTime: 251.6 seconds RetCode: 0 Status: OK CheckDir: flowViz.Rcheck Warnings: 0