Package: flowVS Version: 1.40.0 Command: /home/biocbuild/bbs-3.21-bioc/R/bin/R CMD INSTALL flowVS StartedAt: 2025-10-08 15:35:08 -0400 (Wed, 08 Oct 2025) EndedAt: 2025-10-08 15:35:23 -0400 (Wed, 08 Oct 2025) EllapsedTime: 15.5 seconds RetCode: 0 Status: OK